BEGIN:VCALENDAR
VERSION:2.0
PRODID:-//AMA Philadelphia - ECPv6.15.20//NONSGML v1.0//EN
CALSCALE:GREGORIAN
METHOD:PUBLISH
X-WR-CALNAME:AMA Philadelphia
X-ORIGINAL-URL:https://amaphiladelphia.com
X-WR-CALDESC:Events for AMA Philadelphia
REFRESH-INTERVAL;VALUE=DURATION:PT1H
X-Robots-Tag:noindex
X-PUBLISHED-TTL:PT1H
BEGIN:VTIMEZONE
TZID:America/New_York
BEGIN:DAYLIGHT
TZOFFSETFROM:-0500
TZOFFSETTO:-0400
TZNAME:EDT
DTSTART:20240310T070000
END:DAYLIGHT
BEGIN:STANDARD
TZOFFSETFROM:-0400
TZOFFSETTO:-0500
TZNAME:EST
DTSTART:20241103T060000
END:STANDARD
BEGIN:DAYLIGHT
TZOFFSETFROM:-0500
TZOFFSETTO:-0400
TZNAME:EDT
DTSTART:20250309T070000
END:DAYLIGHT
BEGIN:STANDARD
TZOFFSETFROM:-0400
TZOFFSETTO:-0500
TZNAME:EST
DTSTART:20251102T060000
END:STANDARD
BEGIN:DAYLIGHT
TZOFFSETFROM:-0500
TZOFFSETTO:-0400
TZNAME:EDT
DTSTART:20260308T070000
END:DAYLIGHT
BEGIN:STANDARD
TZOFFSETFROM:-0400
TZOFFSETTO:-0500
TZNAME:EST
DTSTART:20261101T060000
END:STANDARD
END:VTIMEZONE
BEGIN:VEVENT
DTSTART;TZID=America/New_York:20250417T180000
DTEND;TZID=America/New_York:20250417T200000
DTSTAMP:20260423T042227
CREATED:20250302T184612Z
LAST-MODIFIED:20250410T152036Z
UID:5122-1744912800-1744920000@amaphiladelphia.com
SUMMARY:April Marketing Mix @ 6: Yards Brewing Company
DESCRIPTION:This month we’ll be meeting at Yards Brewing Company in Philadelphia! \nHeld at a rotating selection of restaurants around the region\, Marketing Mixes are a great chance to meet and network with fellow marketers. \nYour ticket purchase includes appetizers and 1 drink. \n  \nGet your tickets here!
URL:https://amaphiladelphia.com/event/april-marketing-mix-6/
LOCATION:Yards Brewing Company\, 500 Spring Garden Street\, Philadelphia\, PA\, 19123\, United States
CATEGORIES:Marketing Mix @ 6
ATTACH;FMTTYPE=image/png:https://amaphiladelphia.com/wp-content/uploads/2025/03/Marketing-Mix-@-6-4.16.2025.png
END:VEVENT
END:VCALENDAR